BEGIN:VCALENDAR
VERSION:2.0
PRODID:-//Sabre//Sabre VObject 4.5.8//EN
CALSCALE:GREGORIAN
BEGIN:VEVENT
UID:sabre-vobject-9df764f8-b015-492d-b1cb-f5e458802483
DTSTAMP:20260421T060523Z
SUMMARY:Moana Movie Watch Party
DESCRIPTION:Set sail with Moana at the Fort Greely Aquatics Center!\n\nWe&#
 39\;re so excited to celebrate the release of Moana 2 with a special showi
 ng of Moana on Saturday\, November 30th from 12pm-2pm.\n\nIncludes pool ti
 cket\, kid sized Hawaiian pizza &amp\; drink for $8.\n
X-ALT-DESC:FMTTYPE=text/html:<!DOCTYPE HTML PUBLIC "-//W3C//DTD HTML 3.2//E
 N"><HTML><p>Set sail with Moana at the Fort Greely Aquatics Center!</p>\n\
 n<p>We&#39\;re so excited to celebrate the release of Moana 2 with a speci
 al showing of Moana on Saturday\, November 30th from 12pm-2pm.</p>\n\n<p>I
 ncludes pool ticket\, kid sized Hawaiian pizza &amp\; drink for $8.</p>\n<
 /HTML>
CREATED;TZID=America/Juneau:20241129T090711
URL;VALUE=URI:https://greely.armymwr.com/calendar/event
DTSTART;TZID=America/Juneau:20241130T120000
DTEND;TZID=America/Juneau:20241130T130000
SEQUENCE:0
END:VEVENT
END:VCALENDAR
