BEGIN:VCALENDAR
VERSION:2.0
PRODID:-//Sabre//Sabre VObject 4.5.8//EN
CALSCALE:GREGORIAN
BEGIN:VEVENT
UID:sabre-vobject-af6e9011-5c8b-4756-9496-083bd0f98e40
DTSTAMP:20260424T063912Z
SUMMARY:Volleyball Tournament
DESCRIPTION:Volleyball League Tournament&nbsp\;\n\nJoin the action and embr
 ace the competition of your Ft. Greely volleyball team!\n\nDecember 4th &a
 mp\; 5th at 6pm.\n\nGo team Greely!\n
X-ALT-DESC:FMTTYPE=text/html:<!DOCTYPE HTML PUBLIC "-//W3C//DTD HTML 3.2//E
 N"><HTML><p>Volleyball League Tournament&nbsp\;</p>\n\n<p>Join the action 
 and embrace the competition of your Ft. Greely volleyball team!</p>\n\n<p>
 December 4th &amp\; 5th at 6pm.</p>\n\n<p>Go team Greely!</p>\n</HTML>
CREATED;TZID=America/Juneau:20241202T122914
URL;VALUE=URI:https://greely.armymwr.com/calendar/event
DTSTART;TZID=America/Juneau:20241204T180000
DTEND;TZID=America/Juneau:20241204T200000
SEQUENCE:0
END:VEVENT
END:VCALENDAR
