BEGIN:VCALENDAR
VERSION:2.0
PRODID:-//Sabre//Sabre VObject 4.5.8//EN
CALSCALE:GREGORIAN
BEGIN:VEVENT
UID:sabre-vobject-ba70c9b1-85e7-4e4e-a26f-55ad49d7b52a
DTSTAMP:20260422T114038Z
SUMMARY:Bear Safety in Alaska
DESCRIPTION:How to Be Bear Aware!\n
X-ALT-DESC:FMTTYPE=text/html:<!DOCTYPE HTML PUBLIC "-//W3C//DTD HTML 3.2//E
 N"><HTML><p><em>How to Be Bear Aware!</em></p>\n</HTML>
CREATED;TZID=America/Juneau:20220425T124054
URL;VALUE=URI:https://greely.armymwr.com/calendar/event
DTSTART;TZID=America/Juneau:20220427T170000
DTEND;TZID=America/Juneau:20220427T180000
SEQUENCE:0
END:VEVENT
END:VCALENDAR
