BEGIN:VCALENDAR
VERSION:2.0
PRODID:-//Sabre//Sabre VObject 4.5.8//EN
CALSCALE:GREGORIAN
BEGIN:VEVENT
UID:sabre-vobject-a39b450f-c0fa-4290-bae5-ca22d939c72e
DTSTAMP:20260422T114036Z
SUMMARY:Grow & Giggle Playgroup
DESCRIPTION:Designed for children ages 0-5 years old\, parents and caregive
 rs.\n
X-ALT-DESC:FMTTYPE=text/html:<!DOCTYPE HTML PUBLIC "-//W3C//DTD HTML 3.2//E
 N"><HTML><p>Designed for children ages 0-5 years old\, parents and caregiv
 ers.</p>\n</HTML>
CREATED;TZID=America/Juneau:20220420T134340
URL;VALUE=URI:https://greely.armymwr.com/calendar/event
DTSTART;TZID=America/Juneau:20220422T103000
DTEND;TZID=America/Juneau:20220422T123000
SEQUENCE:0
END:VEVENT
END:VCALENDAR
