BEGIN:VCALENDAR
VERSION:2.0
PRODID:-//Sabre//Sabre VObject 4.5.8//EN
CALSCALE:GREGORIAN
BEGIN:VEVENT
UID:sabre-vobject-e7ba5353-b086-4b04-9fb7-1aa2c2b9a9c2
DTSTAMP:20260423T200923Z
SUMMARY:Splish Splash Easter Egg Bash
DESCRIPTION:Join us at the pool for a fun twist on the traditional Easter e
 gg hunt!&nbsp\;\n
X-ALT-DESC:FMTTYPE=text/html:<!DOCTYPE HTML PUBLIC "-//W3C//DTD HTML 3.2//E
 N"><HTML><p>Join us at the pool for a fun twist on the traditional Easter 
 egg hunt!&nbsp\;</p>\n</HTML>
CREATED;TZID=America/Juneau:20220409T130031
URL;VALUE=URI:https://greely.armymwr.com/calendar/event
DTSTART;TZID=America/Juneau:20220416T103000
DTEND;TZID=America/Juneau:20220416T120000
SEQUENCE:0
END:VEVENT
END:VCALENDAR
