BEGIN:VCALENDAR
VERSION:2.0
PRODID:-//Sabre//Sabre VObject 4.5.8//EN
CALSCALE:GREGORIAN
BEGIN:VEVENT
UID:sabre-vobject-17c25057-2c4a-4c9a-b619-007cc5cf33d4
DTSTAMP:20260425T165330Z
SUMMARY:Child Abuse Prevention Month Kick-off Event
DESCRIPTION:MILKIDS ARE PRIORITY ONE\n
X-ALT-DESC:FMTTYPE=text/html:<!DOCTYPE HTML PUBLIC "-//W3C//DTD HTML 3.2//E
 N"><HTML><p>MILKIDS ARE PRIORITY ONE</p>\n</HTML>
CREATED;TZID=America/Juneau:20220404T154135
URL;VALUE=URI:https://greely.armymwr.com/calendar/event
DTSTART;TZID=America/Juneau:20220405T103000
DTEND;TZID=America/Juneau:20220405T123000
SEQUENCE:0
END:VEVENT
END:VCALENDAR
