BEGIN:VCALENDAR
VERSION:2.0
PRODID:-//Sabre//Sabre VObject 4.5.8//EN
CALSCALE:GREGORIAN
BEGIN:VEVENT
UID:sabre-vobject-ec03f1bd-dba0-4740-a9c7-3f7441e70b41
DTSTAMP:20260423T230239Z
SUMMARY:St. Patty's 3-Points Shootout
DESCRIPTION:Test your luck!&nbsp\;Hit as many shots as you can for the chan
 ce to win!\n
X-ALT-DESC:FMTTYPE=text/html:<!DOCTYPE HTML PUBLIC "-//W3C//DTD HTML 3.2//E
 N"><HTML><p>Test your luck!&nbsp\;Hit as many shots as you can for the cha
 nce to win!</p>\n</HTML>
CREATED;TZID=America/Juneau:20220316T122832
URL;VALUE=URI:https://greely.armymwr.com/calendar/event
DTSTART;TZID=America/Juneau:20220316T000000
DTEND;TZID=America/Juneau:20220321T235959
SEQUENCE:0
END:VEVENT
END:VCALENDAR
