BEGIN:VCALENDAR
VERSION:2.0
PRODID:-//Sabre//Sabre VObject 4.5.8//EN
CALSCALE:GREGORIAN
BEGIN:VEVENT
UID:sabre-vobject-031f63f1-10ba-45b4-a5d5-ad215182de6a
DTSTAMP:20260423T230235Z
SUMMARY:Spring Fling 2022: Latrines on Ice & Snowmachine Rides
DESCRIPTION:Do you think you&#39\;re fast? Prove it! Event features Latrine
 s on Ice and a snowmachine ride!\n
X-ALT-DESC:FMTTYPE=text/html:<!DOCTYPE HTML PUBLIC "-//W3C//DTD HTML 3.2//E
 N"><HTML><p>Do you think you&#39\;re fast? Prove it! Event features Latrin
 es on Ice and a snowmachine ride!</p>\n</HTML>
CREATED;TZID=America/Juneau:20220310T171825
URL;VALUE=URI:https://greely.armymwr.com/calendar/event
DTSTART;TZID=America/Juneau:20220319T110000
DTEND;TZID=America/Juneau:20220319T120000
SEQUENCE:0
END:VEVENT
END:VCALENDAR
