BEGIN:VCALENDAR
VERSION:2.0
PRODID:-//Sabre//Sabre VObject 4.5.8//EN
CALSCALE:GREGORIAN
BEGIN:VEVENT
UID:sabre-vobject-73493860-0a47-493c-b2a9-2c5f77096d99
DTSTAMP:20260422T082350Z
SUMMARY:Intramural Basketball 2022
DESCRIPTION:Gather up your friends and co-workers\, and join the League!\n
X-ALT-DESC:FMTTYPE=text/html:<!DOCTYPE HTML PUBLIC "-//W3C//DTD HTML 3.2//E
 N"><HTML><p>Gather up your friends and co-workers\, and join the League!</
 p>\n</HTML>
CREATED;TZID=America/Juneau:20220228T142158
URL;VALUE=URI:https://greely.armymwr.com/calendar/event
DTSTART;TZID=America/Juneau:20220322T180000
DTEND;TZID=America/Juneau:20220322T210000
SEQUENCE:0
END:VEVENT
END:VCALENDAR
