BEGIN:VCALENDAR
VERSION:2.0
PRODID:-//Sabre//Sabre VObject 4.5.8//EN
CALSCALE:GREGORIAN
BEGIN:VEVENT
UID:sabre-vobject-7e24f873-ade2-4b5a-aebe-479140d4f4f0
DTSTAMP:20260424T210052Z
SUMMARY:MWR Holiday Hours for Presidents' Day
DESCRIPTION:Most Fort Greely Family and MWR facilities will be closed on Fe
 bruary 21st.&nbsp\;\n
X-ALT-DESC:FMTTYPE=text/html:<!DOCTYPE HTML PUBLIC "-//W3C//DTD HTML 3.2//E
 N"><HTML><p>Most Fort Greely Family and MWR facilities will be <strong><em
 >closed</em></strong> on February 21st.&nbsp\;</p>\n</HTML>
CREATED;TZID=America/Juneau:20220210T140022
URL;VALUE=URI:https://greely.armymwr.com/calendar/event
DTSTART;TZID=America/Juneau:20220221T000000
DTEND;TZID=America/Juneau:20220221T235959
SEQUENCE:0
END:VEVENT
END:VCALENDAR
