BEGIN:VCALENDAR
VERSION:2.0
PRODID:-//Sabre//Sabre VObject 4.5.8//EN
CALSCALE:GREGORIAN
BEGIN:VEVENT
UID:sabre-vobject-77bc9663-4649-44bb-84b3-cdd8ffe3a0ed
DTSTAMP:20260425T115948Z
SUMMARY:Credit Management 
DESCRIPTION:
X-ALT-DESC:FMTTYPE=text/html:<!DOCTYPE HTML PUBLIC "-//W3C//DTD HTML 3.2//E
 N"><HTML></HTML>
CREATED;TZID=America/Juneau:20220126T165213
URL;VALUE=URI:https://greely.armymwr.com/calendar/event
DTSTART;TZID=America/Juneau:20220127T170000
DTEND;TZID=America/Juneau:20220127T180000
SEQUENCE:0
END:VEVENT
END:VCALENDAR
