BEGIN:VCALENDAR
VERSION:2.0
PRODID:-//Sabre//Sabre VObject 4.5.8//EN
CALSCALE:GREGORIAN
BEGIN:VEVENT
UID:sabre-vobject-4942a409-03c8-413f-9221-5691bb555d0c
DTSTAMP:20260420T103859Z
SUMMARY:Read\, Talk & More  Copy
DESCRIPTION:Read a book out loud...maybe even act it out and have some fun 
 with our Read\, Talk &amp\; More!\n
X-ALT-DESC:FMTTYPE=text/html:<!DOCTYPE HTML PUBLIC "-//W3C//DTD HTML 3.2//E
 N"><HTML><p>Read a book out loud...maybe even act it out and have some fun
  with our Read\, Talk &amp\; More!</p>\n</HTML>
CREATED;TZID=America/Juneau:20240506T150418
URL;VALUE=URI:https://greely.armymwr.com/calendar/event
DTSTART;TZID=America/Juneau:20190911T180000
DTEND;TZID=America/Juneau:20190911T190000
SEQUENCE:0
END:VEVENT
BEGIN:VEVENT
UID:sabre-vobject-1ca38f86-8fb7-4724-8457-aef0e7494785
DTSTAMP:20260420T103859Z
SUMMARY:Read\, Talk & More  Copy
DESCRIPTION:Read a book out loud...maybe even act it out and have some fun 
 with our Read\, Talk &amp\; More!\n
X-ALT-DESC:FMTTYPE=text/html:<!DOCTYPE HTML PUBLIC "-//W3C//DTD HTML 3.2//E
 N"><HTML><p>Read a book out loud...maybe even act it out and have some fun
  with our Read\, Talk &amp\; More!</p>\n</HTML>
CREATED;TZID=America/Juneau:20240506T150418
URL;VALUE=URI:https://greely.armymwr.com/calendar/event
DTSTART;TZID=America/Juneau:20190925T180000
DTEND;TZID=America/Juneau:20190925T190000
SEQUENCE:1
END:VEVENT
END:VCALENDAR
