BEGIN:VCALENDAR
VERSION:2.0
PRODID:-//Sabre//Sabre VObject 4.5.8//EN
CALSCALE:GREGORIAN
BEGIN:VEVENT
UID:sabre-vobject-8fd22c1d-b4de-4f63-b24b-7f546e1e901d
DTSTAMP:20260421T134349Z
SUMMARY:Yoga
DESCRIPTION:Tied up in knots?&nbsp\;This class is ideal for anyone new to&n
 bsp\;yoga&nbsp\;and interested in its benefits.\n
X-ALT-DESC:FMTTYPE=text/html:<!DOCTYPE HTML PUBLIC "-//W3C//DTD HTML 3.2//E
 N"><HTML><p>Tied up in knots?&nbsp\;This class is ideal for anyone new to&
 nbsp\;yoga&nbsp\;and interested in its benefits.</p>\n</HTML>
CREATED;TZID=America/Juneau:20190625T115424
URL;VALUE=URI:https://greely.armymwr.com/calendar/event
DTSTART;TZID=America/Juneau:20190703T171500
DTEND;TZID=America/Juneau:20190703T181500
SEQUENCE:0
END:VEVENT
END:VCALENDAR
