BEGIN:VCALENDAR
VERSION:2.0
PRODID:-//Sabre//Sabre VObject 4.5.8//EN
CALSCALE:GREGORIAN
BEGIN:VEVENT
UID:sabre-vobject-3acd4786-36ec-432e-a2a7-cc413629fbff
DTSTAMP:20260423T200924Z
SUMMARY:Infant Massage
DESCRIPTION:It is never too late to begin massage.\n
X-ALT-DESC:FMTTYPE=text/html:<!DOCTYPE HTML PUBLIC "-//W3C//DTD HTML 3.2//E
 N"><HTML><p>It is never too late to begin massage.</p>\n</HTML>
CREATED;TZID=America/Juneau:20190712T140810
URL;VALUE=URI:https://greely.armymwr.com/calendar/event
DTSTART;TZID=America/Juneau:20190723T130000
DTEND;TZID=America/Juneau:20190723T140000
SEQUENCE:0
END:VEVENT
END:VCALENDAR
