BEGIN:VCALENDAR
VERSION:2.0
PRODID:-//Sabre//Sabre VObject 4.5.8//EN
CALSCALE:GREGORIAN
BEGIN:VEVENT
UID:sabre-vobject-e046e7b6-b781-4952-803e-0bbff4ccc172
DTSTAMP:20260421T121536Z
SUMMARY:Hiking Club for Families 
DESCRIPTION:Joining the Hiking Club is a delightful way to immerse your fam
 ily in the great outdoors.\n
X-ALT-DESC:FMTTYPE=text/html:<!DOCTYPE HTML PUBLIC "-//W3C//DTD HTML 3.2//E
 N"><HTML><p>Joining the Hiking Club is a delightful way to immerse your fa
 mily in the great outdoors.</p>\n</HTML>
CREATED;TZID=America/Juneau:20190612T164016
URL;VALUE=URI:https://greely.armymwr.com/calendar/event
DTSTART;TZID=America/Juneau:20190626T093000
DTEND;TZID=America/Juneau:20190626T103000
SEQUENCE:0
END:VEVENT
BEGIN:VEVENT
UID:sabre-vobject-179f2e5e-3686-426b-a568-3234552d394a
DTSTAMP:20260421T121536Z
SUMMARY:Hiking Club for Families 
DESCRIPTION:Joining the Hiking Club is a delightful way to immerse your fam
 ily in the great outdoors.\n
X-ALT-DESC:FMTTYPE=text/html:<!DOCTYPE HTML PUBLIC "-//W3C//DTD HTML 3.2//E
 N"><HTML><p>Joining the Hiking Club is a delightful way to immerse your fa
 mily in the great outdoors.</p>\n</HTML>
CREATED;TZID=America/Juneau:20190612T164016
URL;VALUE=URI:https://greely.armymwr.com/calendar/event
DTSTART;TZID=America/Juneau:20190717T093000
DTEND;TZID=America/Juneau:20190717T103000
SEQUENCE:1
END:VEVENT
BEGIN:VEVENT
UID:sabre-vobject-f4b3d31d-89ae-4eed-bea8-85141d1df445
DTSTAMP:20260421T121536Z
SUMMARY:Hiking Club for Families 
DESCRIPTION:Joining the Hiking Club is a delightful way to immerse your fam
 ily in the great outdoors.\n
X-ALT-DESC:FMTTYPE=text/html:<!DOCTYPE HTML PUBLIC "-//W3C//DTD HTML 3.2//E
 N"><HTML><p>Joining the Hiking Club is a delightful way to immerse your fa
 mily in the great outdoors.</p>\n</HTML>
CREATED;TZID=America/Juneau:20190612T164016
URL;VALUE=URI:https://greely.armymwr.com/calendar/event
DTSTART;TZID=America/Juneau:20190731T093000
DTEND;TZID=America/Juneau:20190731T103000
SEQUENCE:2
END:VEVENT
END:VCALENDAR
