BEGIN:VCALENDAR
VERSION:2.0
PRODID:-//Sabre//Sabre VObject 4.5.8//EN
CALSCALE:GREGORIAN
BEGIN:VEVENT
UID:sabre-vobject-9b5a2ad1-3c28-40f2-a21d-1b17ce72f525
DTSTAMP:20260424T100806Z
SUMMARY:Yoga
DESCRIPTION:Tied up in knots?&nbsp\;This class is ideal for anyone new to&n
 bsp\;yoga&nbsp\;and interested in its benefits.\n
X-ALT-DESC:FMTTYPE=text/html:<!DOCTYPE HTML PUBLIC "-//W3C//DTD HTML 3.2//E
 N"><HTML><p>Tied up in knots?&nbsp\;This class is ideal for anyone new to&
 nbsp\;yoga&nbsp\;and interested in its benefits.</p>\n</HTML>
CREATED;TZID=America/Juneau:20190604T143921
URL;VALUE=URI:https://greely.armymwr.com/calendar/event
DTSTART;TZID=America/Juneau:20190605T171500
DTEND;TZID=America/Juneau:20190605T181500
SEQUENCE:0
END:VEVENT
END:VCALENDAR
