BEGIN:VCALENDAR
VERSION:2.0
PRODID:-//Sabre//Sabre VObject 4.5.8//EN
CALSCALE:GREGORIAN
BEGIN:VEVENT
UID:sabre-vobject-a008e7d4-1718-42b1-a08a-174c160e7063
DTSTAMP:20260424T100803Z
SUMMARY:Spinning
DESCRIPTION:Looking to burn more calories? Come and&nbsp\;join our spinning
  classes!\n
X-ALT-DESC:FMTTYPE=text/html:<!DOCTYPE HTML PUBLIC "-//W3C//DTD HTML 3.2//E
 N"><HTML><p>Looking to burn more calories? Come and&nbsp\;join our spinnin
 g classes!</p>\n</HTML>
CREATED;TZID=America/Juneau:20190604T142939
URL;VALUE=URI:https://greely.armymwr.com/calendar/event
DTSTART;TZID=America/Juneau:20190603T170000
DTEND;TZID=America/Juneau:20190603T180000
SEQUENCE:0
END:VEVENT
BEGIN:VEVENT
UID:sabre-vobject-58d1b527-0ae5-41ae-95eb-e854804ebadb
DTSTAMP:20260424T100803Z
SUMMARY:Spinning
DESCRIPTION:Looking to burn more calories? Come and&nbsp\;join our spinning
  classes!\n
X-ALT-DESC:FMTTYPE=text/html:<!DOCTYPE HTML PUBLIC "-//W3C//DTD HTML 3.2//E
 N"><HTML><p>Looking to burn more calories? Come and&nbsp\;join our spinnin
 g classes!</p>\n</HTML>
CREATED;TZID=America/Juneau:20190604T142939
URL;VALUE=URI:https://greely.armymwr.com/calendar/event
DTSTART;TZID=America/Juneau:20190604T090000
DTEND;TZID=America/Juneau:20190604T100000
SEQUENCE:1
END:VEVENT
BEGIN:VEVENT
UID:sabre-vobject-80848bbf-1572-466a-8425-f2a91ceb138b
DTSTAMP:20260424T100803Z
SUMMARY:Spinning
DESCRIPTION:Looking to burn more calories? Come and&nbsp\;join our spinning
  classes!\n
X-ALT-DESC:FMTTYPE=text/html:<!DOCTYPE HTML PUBLIC "-//W3C//DTD HTML 3.2//E
 N"><HTML><p>Looking to burn more calories? Come and&nbsp\;join our spinnin
 g classes!</p>\n</HTML>
CREATED;TZID=America/Juneau:20190604T142939
URL;VALUE=URI:https://greely.armymwr.com/calendar/event
DTSTART;TZID=America/Juneau:20190501T170000
DTEND;TZID=America/Juneau:20190501T180000
SEQUENCE:2
END:VEVENT
BEGIN:VEVENT
UID:sabre-vobject-52f5966a-2495-4e68-83bf-ec1b511dd3c4
DTSTAMP:20260424T100803Z
SUMMARY:Spinning
DESCRIPTION:Looking to burn more calories? Come and&nbsp\;join our spinning
  classes!\n
X-ALT-DESC:FMTTYPE=text/html:<!DOCTYPE HTML PUBLIC "-//W3C//DTD HTML 3.2//E
 N"><HTML><p>Looking to burn more calories? Come and&nbsp\;join our spinnin
 g classes!</p>\n</HTML>
CREATED;TZID=America/Juneau:20190604T142939
URL;VALUE=URI:https://greely.armymwr.com/calendar/event
DTSTART;TZID=America/Juneau:20190605T120000
DTEND;TZID=America/Juneau:20190605T130000
SEQUENCE:3
END:VEVENT
END:VCALENDAR
