BEGIN:VCALENDAR
VERSION:2.0
PRODID:-//Sabre//Sabre VObject 4.5.8//EN
CALSCALE:GREGORIAN
BEGIN:VEVENT
UID:sabre-vobject-5097c234-a525-4dd9-87f9-85c733f3a4dc
DTSTAMP:20260424T173217Z
SUMMARY:BootCamp
DESCRIPTION:Sick of boring cardio&nbsp\;workouts? Get back to basics!\n
X-ALT-DESC:FMTTYPE=text/html:<!DOCTYPE HTML PUBLIC "-//W3C//DTD HTML 3.2//E
 N"><HTML><p>Sick of boring cardio&nbsp\;<em>workouts</em>? Get back to bas
 ics!</p>\n</HTML>
CREATED;TZID=America/Juneau:20190604T142725
URL;VALUE=URI:https://greely.armymwr.com/calendar/event
DTSTART;TZID=America/Juneau:20190603T121500
DTEND;TZID=America/Juneau:20190603T131500
SEQUENCE:0
END:VEVENT
END:VCALENDAR
