BEGIN:VCALENDAR
VERSION:2.0
PRODID:-//Sabre//Sabre VObject 4.5.8//EN
CALSCALE:GREGORIAN
BEGIN:VEVENT
UID:sabre-vobject-1b5bfb95-819f-4a5a-93eb-ddcf55a90e55
DTSTAMP:20260424T100805Z
SUMMARY:Learn to Swim - Level 1
DESCRIPTION:Learn-to-Swim classes are taught by certified instructors who c
 an help swimmers&nbsp\;feel comfortable in the water and progress to the n
 ext level.\n
X-ALT-DESC:FMTTYPE=text/html:<!DOCTYPE HTML PUBLIC "-//W3C//DTD HTML 3.2//E
 N"><HTML><p>Learn-to-Swim classes are taught by certified instructors who 
 can help swimmers&nbsp\;feel comfortable in the water and progress to the 
 next level.</p>\n</HTML>
CREATED;TZID=America/Juneau:20190613T172033
URL;VALUE=URI:https://greely.armymwr.com/calendar/event
DTSTART;TZID=America/Juneau:20190626T180000
DTEND;TZID=America/Juneau:20190626T184500
SEQUENCE:0
END:VEVENT
BEGIN:VEVENT
UID:sabre-vobject-1673e999-40fc-40fd-bad2-d2fd5fe5dc12
DTSTAMP:20260424T100805Z
SUMMARY:Learn to Swim - Level 1
DESCRIPTION:Learn-to-Swim classes are taught by certified instructors who c
 an help swimmers&nbsp\;feel comfortable in the water and progress to the n
 ext level.\n
X-ALT-DESC:FMTTYPE=text/html:<!DOCTYPE HTML PUBLIC "-//W3C//DTD HTML 3.2//E
 N"><HTML><p>Learn-to-Swim classes are taught by certified instructors who 
 can help swimmers&nbsp\;feel comfortable in the water and progress to the 
 next level.</p>\n</HTML>
CREATED;TZID=America/Juneau:20190613T172033
URL;VALUE=URI:https://greely.armymwr.com/calendar/event
DTSTART;TZID=America/Juneau:20190626T113000
DTEND;TZID=America/Juneau:20190626T121500
SEQUENCE:1
END:VEVENT
END:VCALENDAR
