BEGIN:VCALENDAR
VERSION:2.0
PRODID:-//Sabre//Sabre VObject 4.5.8//EN
CALSCALE:GREGORIAN
BEGIN:VEVENT
UID:sabre-vobject-3519a937-a008-4216-ab74-f326b328abde
DTSTAMP:20260426T040047Z
SUMMARY:Interval & Abs 
DESCRIPTION:Build your core strength and tone your&nbsp\;abs with our Inter
 val &amp\; Abs fitness class.\n
X-ALT-DESC:FMTTYPE=text/html:<!DOCTYPE HTML PUBLIC "-//W3C//DTD HTML 3.2//E
 N"><HTML><p>Build your core strength and tone your&nbsp\;abs with our Inte
 rval &amp\; Abs fitness class.</p>\n</HTML>
CREATED;TZID=America/Juneau:20190506T110410
URL;VALUE=URI:https://greely.armymwr.com/calendar/event
DTSTART;TZID=America/Juneau:20190502T091500
DTEND;TZID=America/Juneau:20190502T101500
SEQUENCE:0
END:VEVENT
BEGIN:VEVENT
UID:sabre-vobject-28c79ab6-b440-45e2-bb8b-5747d074ce31
DTSTAMP:20260426T040047Z
SUMMARY:Interval & Abs 
DESCRIPTION:Build your core strength and tone your&nbsp\;abs with our Inter
 val &amp\; Abs fitness class.\n
X-ALT-DESC:FMTTYPE=text/html:<!DOCTYPE HTML PUBLIC "-//W3C//DTD HTML 3.2//E
 N"><HTML><p>Build your core strength and tone your&nbsp\;abs with our Inte
 rval &amp\; Abs fitness class.</p>\n</HTML>
CREATED;TZID=America/Juneau:20190506T110410
URL;VALUE=URI:https://greely.armymwr.com/calendar/event
DTSTART;TZID=America/Juneau:20190507T121500
DTEND;TZID=America/Juneau:20190507T131500
SEQUENCE:1
END:VEVENT
END:VCALENDAR
