BEGIN:VCALENDAR
VERSION:2.0
PRODID:-//Sabre//Sabre VObject 4.5.8//EN
CALSCALE:GREGORIAN
BEGIN:VEVENT
UID:sabre-vobject-0090fc92-b0cf-4b67-bb31-b72624d4cbc2
DTSTAMP:20260426T040045Z
SUMMARY:Cross FitCamp
DESCRIPTION:Cross FitCamp will help you achieve your goals and more!\n
X-ALT-DESC:FMTTYPE=text/html:<!DOCTYPE HTML PUBLIC "-//W3C//DTD HTML 3.2//E
 N"><HTML><p>Cross FitCamp will help you achieve your goals and more!</p>\n
 </HTML>
CREATED;TZID=America/Juneau:20190506T110144
URL;VALUE=URI:https://greely.armymwr.com/calendar/event
DTSTART;TZID=America/Juneau:20190501T183000
DTEND;TZID=America/Juneau:20190501T193000
SEQUENCE:0
END:VEVENT
BEGIN:VEVENT
UID:sabre-vobject-583dd35a-cba8-4b6e-be85-52a1b8528ee0
DTSTAMP:20260426T040045Z
SUMMARY:Cross FitCamp
DESCRIPTION:Cross FitCamp will help you achieve your goals and more!\n
X-ALT-DESC:FMTTYPE=text/html:<!DOCTYPE HTML PUBLIC "-//W3C//DTD HTML 3.2//E
 N"><HTML><p>Cross FitCamp will help you achieve your goals and more!</p>\n
 </HTML>
CREATED;TZID=America/Juneau:20190506T110144
URL;VALUE=URI:https://greely.armymwr.com/calendar/event
DTSTART;TZID=America/Juneau:20190503T160000
DTEND;TZID=America/Juneau:20190503T170000
SEQUENCE:1
END:VEVENT
END:VCALENDAR
