BEGIN:VCALENDAR
VERSION:2.0
PRODID:-//Sabre//Sabre VObject 4.5.8//EN
CALSCALE:GREGORIAN
BEGIN:VEVENT
UID:sabre-vobject-137d0752-23e5-4735-be37-f7f7ec43ac95
DTSTAMP:20260424T100807Z
SUMMARY:SKIESUnlimited Archery
DESCRIPTION:
X-ALT-DESC:FMTTYPE=text/html:<!DOCTYPE HTML PUBLIC "-//W3C//DTD HTML 3.2//E
 N"><HTML></HTML>
CREATED;TZID=America/Juneau:20190709T153911
URL;VALUE=URI:https://greely.armymwr.com/calendar/event
DTSTART;TZID=America/Juneau:20190507T170000
DTEND;TZID=America/Juneau:20190507T180000
SEQUENCE:0
END:VEVENT
END:VCALENDAR
