BEGIN:VCALENDAR
VERSION:2.0
PRODID:-//Sabre//Sabre VObject 4.5.8//EN
CALSCALE:GREGORIAN
BEGIN:VEVENT
UID:sabre-vobject-d7bbc3f5-82eb-48a8-8171-76735fde59d3
DTSTAMP:20260424T163955Z
SUMMARY:Youth Sports: Track & Field
DESCRIPTION:Have fun with CYS Youth Sports - Track and Field Program!\n
X-ALT-DESC:FMTTYPE=text/html:<!DOCTYPE HTML PUBLIC "-//W3C//DTD HTML 3.2//E
 N"><HTML><p>Have fun with CYS Youth Sports - Track and Field Program!</p>\
 n</HTML>
CREATED;TZID=America/Juneau:20190326T084051
URL;VALUE=URI:https://greely.armymwr.com/calendar/event
DTSTART;TZID=America/Juneau:20190508T170000
DTEND;TZID=America/Juneau:20190508T180000
SEQUENCE:0
END:VEVENT
BEGIN:VEVENT
UID:sabre-vobject-091e2e7a-8fcd-43c1-909f-764b64296789
DTSTAMP:20260424T163955Z
SUMMARY:Youth Sports: Track & Field
DESCRIPTION:Have fun with CYS Youth Sports - Track and Field Program!\n
X-ALT-DESC:FMTTYPE=text/html:<!DOCTYPE HTML PUBLIC "-//W3C//DTD HTML 3.2//E
 N"><HTML><p>Have fun with CYS Youth Sports - Track and Field Program!</p>\
 n</HTML>
CREATED;TZID=America/Juneau:20190326T084051
URL;VALUE=URI:https://greely.armymwr.com/calendar/event
DTSTART;TZID=America/Juneau:20190509T170000
DTEND;TZID=America/Juneau:20190509T180000
SEQUENCE:1
END:VEVENT
END:VCALENDAR
