BEGIN:VCALENDAR
VERSION:2.0
PRODID:-//Sabre//Sabre VObject 4.5.8//EN
CALSCALE:GREGORIAN
BEGIN:VEVENT
UID:sabre-vobject-5a811ceb-ea3f-408d-aac4-6f5b495ce237
DTSTAMP:20260422T190043Z
SUMMARY:SKIESUnlimited Jazz
DESCRIPTION:Do your children want to learn Jazz? Sign Up Now!\n
X-ALT-DESC:FMTTYPE=text/html:<!DOCTYPE HTML PUBLIC "-//W3C//DTD HTML 3.2//E
 N"><HTML><p>Do your children want to learn Jazz? Sign Up Now!</p>\n</HTML>
CREATED;TZID=America/Juneau:20190809T121452
URL;VALUE=URI:https://greely.armymwr.com/calendar/event
DTSTART;TZID=America/Juneau:20170901T170000
DTEND;TZID=America/Juneau:20170901T200000
SEQUENCE:0
END:VEVENT
END:VCALENDAR
