BEGIN:VCALENDAR
VERSION:2.0
PRODID:-//Sabre//Sabre VObject 4.5.8//EN
CALSCALE:GREGORIAN
BEGIN:VEVENT
UID:sabre-vobject-a1fdcc57-cea0-4d15-921e-13d3eb28c00f
DTSTAMP:20260420T171623Z
SUMMARY:Lap Swimming
DESCRIPTION:Lap swimmers only\, to include Swim Club. NO OPEN SWIMMERS!\n
X-ALT-DESC:FMTTYPE=text/html:<!DOCTYPE HTML PUBLIC "-//W3C//DTD HTML 3.2//E
 N"><HTML><p>Lap swimmers only\, to include Swim Club. NO OPEN SWIMMERS!</p
 >\n</HTML>
CREATED;TZID=America/Juneau:20190909T155809
URL;VALUE=URI:https://greely.armymwr.com/calendar/event
DTSTART;TZID=America/Juneau:20190702T170000
DTEND;TZID=America/Juneau:20190702T183000
SEQUENCE:0
END:VEVENT
END:VCALENDAR
