BEGIN:VCALENDAR
VERSION:2.0
PRODID:-//Sabre//Sabre VObject 4.5.8//EN
CALSCALE:GREGORIAN
BEGIN:VEVENT
UID:sabre-vobject-393aae0a-78b0-4801-a203-088a77a3fc2c
DTSTAMP:20260423T030947Z
SUMMARY:Pickleball Club
DESCRIPTION:Join us at the PFC every Tuesday and Thursday at 6 PM for pickl
 eball! Easy yo learn\, low impact and fun!\n
X-ALT-DESC:FMTTYPE=text/html:<!DOCTYPE HTML PUBLIC "-//W3C//DTD HTML 3.2//E
 N"><HTML><p>Join us at the PFC every Tuesday and Thursday at 6 PM for pick
 leball! Easy yo learn\, low impact and fun!</p>\n</HTML>
CREATED;TZID=America/Juneau:20260422T131828
URL;VALUE=URI:https://greely.armymwr.com/calendar/event
DTSTART;TZID=America/Juneau:20260423T180000
DTEND;TZID=America/Juneau:20260423T190000
SEQUENCE:0
END:VEVENT
END:VCALENDAR
