BEGIN:VCALENDAR
VERSION:2.0
PRODID:-//Sabre//Sabre VObject 4.5.8//EN
CALSCALE:GREGORIAN
BEGIN:VEVENT
UID:sabre-vobject-1493f036-014c-46a0-a388-447bf9a277e5
DTSTAMP:20260424T074720Z
SUMMARY:Light Up Fridays Cosmic Bowling
DESCRIPTION:
X-ALT-DESC:FMTTYPE=text/html:<!DOCTYPE HTML PUBLIC "-//W3C//DTD HTML 3.2//E
 N"><HTML></HTML>
CREATED;TZID=America/Juneau:20260415T093251
URL;VALUE=URI:https://greely.armymwr.com/calendar/event
DTSTART;TZID=America/Juneau:20260703T110000
DTEND;TZID=America/Juneau:20260703T210000
SEQUENCE:0
END:VEVENT
END:VCALENDAR
