BEGIN:VCALENDAR
VERSION:2.0
PRODID:-//Sabre//Sabre VObject 4.5.8//EN
CALSCALE:GREGORIAN
BEGIN:VEVENT
UID:sabre-vobject-3137d1a2-be94-4bc4-8362-a4d84d5106c8
DTSTAMP:20260424T015823Z
SUMMARY:SxS Safety Course
DESCRIPTION:
X-ALT-DESC:FMTTYPE=text/html:<!DOCTYPE HTML PUBLIC "-//W3C//DTD HTML 3.2//E
 N"><HTML></HTML>
CREATED;TZID=America/Juneau:20260413T125810
URL;VALUE=URI:https://greely.armymwr.com/calendar/event
DTSTART;TZID=America/Juneau:20260626T170000
DTEND;TZID=America/Juneau:20260626T200000
SEQUENCE:0
END:VEVENT
END:VCALENDAR
