BEGIN:VCALENDAR
VERSION:2.0
PRODID:-//Sabre//Sabre VObject 4.5.8//EN
CALSCALE:GREGORIAN
BEGIN:VEVENT
UID:sabre-vobject-874e6f6d-d7f9-46d4-97e5-4d02cd821894
DTSTAMP:20260424T185855Z
SUMMARY:ATV Safety Course 
DESCRIPTION:
X-ALT-DESC:FMTTYPE=text/html:<!DOCTYPE HTML PUBLIC "-//W3C//DTD HTML 3.2//E
 N"><HTML></HTML>
CREATED;TZID=America/Juneau:20260413T123816
URL;VALUE=URI:https://greely.armymwr.com/calendar/event
DTSTART;TZID=America/Juneau:20260724T170000
DTEND;TZID=America/Juneau:20260724T200000
SEQUENCE:0
END:VEVENT
END:VCALENDAR
