BEGIN:VCALENDAR
VERSION:2.0
PRODID:-//Sabre//Sabre VObject 4.5.8//EN
CALSCALE:GREGORIAN
BEGIN:VEVENT
UID:sabre-vobject-0704b082-c646-49a5-add4-413871841d8e
DTSTAMP:20260421T134656Z
SUMMARY:Royal Tea Party
DESCRIPTION:
X-ALT-DESC:FMTTYPE=text/html:<!DOCTYPE HTML PUBLIC "-//W3C//DTD HTML 3.2//E
 N"><HTML></HTML>
CREATED;TZID=America/Juneau:20260408T103117
URL;VALUE=URI:https://greely.armymwr.com/calendar/event
DTSTART;TZID=America/Juneau:20260509T140000
DTEND;TZID=America/Juneau:20260509T150000
SEQUENCE:0
END:VEVENT
END:VCALENDAR
