BEGIN:VCALENDAR
VERSION:2.0
PRODID:-//Sabre//Sabre VObject 4.5.8//EN
CALSCALE:GREGORIAN
BEGIN:VEVENT
UID:sabre-vobject-9fdd58b4-1fd7-40b4-b330-ae50ced99bd4
DTSTAMP:20260422T034039Z
SUMMARY:Intramural Basketball Tournament
DESCRIPTION:
X-ALT-DESC:FMTTYPE=text/html:<!DOCTYPE HTML PUBLIC "-//W3C//DTD HTML 3.2//E
 N"><HTML></HTML>
CREATED;TZID=America/Juneau:20260219T134422
URL;VALUE=URI:https://greely.armymwr.com/calendar/event
DTSTART;TZID=America/Juneau:20260331T180000
DTEND;TZID=America/Juneau:20260331T213000
SEQUENCE:0
END:VEVENT
END:VCALENDAR
